BEGIN:VCALENDAR
VERSION:2.0
PRODID:https://www.kufer.de/kuferweb / DE
METHOD:PUBLISH
CALSCALE:GREGORIAN
X-WR-TIMEZONE:Europe/Berlin
BEGIN:VTIMEZONE
TZID:Europe/Berlin
X-LIC-LOCATION:Europe/Berlin
BEGIN:DAYLIGHT
TZOFFSETFROM:+0100
TZOFFSETTO:+0200
TZNAME:CEST
DTSTART:19700329T020000
RRULE:FREQ=YEARLY;INTERVAL=1;BYDAY=-1SU;BYMONTH=3
END:DAYLIGHT
BEGIN:STANDARD
TZOFFSETFROM:+0200
TZOFFSETTO:+0100
TZNAME:CET
DTSTART:19701025T030000
RRULE:FREQ=YEARLY;INTERVAL=1;BYDAY=-1SU;BYMONTH=10
END:STANDARD
END:VTIMEZONE
BEGIN:VEVENT
DTSTAMP:20260426T030046
DTSTART;TZID=Europe/Berlin:20261005T120000
DTEND;TZID=Europe/Berlin:20261005T170000
UID:26H202.011-20261005T120000@VHSNEUSTADT AN DER WEINSTRASSE
SUMMARY:NEU: Bildungszeit: Kreatives Schreiben: Fundamente für selbst-bewusstes Ver(w)orten (26H202.011) 
LOCATION:vhs, Hindenburgstr. 14, Raum 111, Hindenburgstraße 14, 67433 Neustadt/Weinstraße
END:VEVENT
BEGIN:VEVENT
DTSTAMP:20260426T030046
DTSTART;TZID=Europe/Berlin:20261006T093000
DTEND;TZID=Europe/Berlin:20261006T163000
UID:26H202.011-20261006T093000@VHSNEUSTADT AN DER WEINSTRASSE
SUMMARY:NEU: Bildungszeit: Kreatives Schreiben: Fundamente für selbst-bewusstes Ver(w)orten (26H202.011) 
LOCATION:vhs, Hindenburgstr. 14, Raum 111, Hindenburgstraße 14, 67433 Neustadt/Weinstraße
END:VEVENT
BEGIN:VEVENT
DTSTAMP:20260426T030046
DTSTART;TZID=Europe/Berlin:20261007T093000
DTEND;TZID=Europe/Berlin:20261007T203000
UID:26H202.011-20261007T093000@VHSNEUSTADT AN DER WEINSTRASSE
SUMMARY:NEU: Bildungszeit: Kreatives Schreiben: Fundamente für selbst-bewusstes Ver(w)orten (26H202.011) 
LOCATION:vhs, Hindenburgstr. 14, Raum 111, Hindenburgstraße 14, 67433 Neustadt/Weinstraße
END:VEVENT
BEGIN:VEVENT
DTSTAMP:20260426T030046
DTSTART;TZID=Europe/Berlin:20261008T093000
DTEND;TZID=Europe/Berlin:20261008T163000
UID:26H202.011-20261008T093000@VHSNEUSTADT AN DER WEINSTRASSE
SUMMARY:NEU: Bildungszeit: Kreatives Schreiben: Fundamente für selbst-bewusstes Ver(w)orten (26H202.011) 
LOCATION:vhs, Hindenburgstr. 14, Raum 111, Hindenburgstraße 14, 67433 Neustadt/Weinstraße
END:VEVENT
BEGIN:VEVENT
DTSTAMP:20260426T030046
DTSTART;TZID=Europe/Berlin:20261009T080000
DTEND;TZID=Europe/Berlin:20261009T130000
UID:26H202.011-20261009T080000@VHSNEUSTADT AN DER WEINSTRASSE
SUMMARY:NEU: Bildungszeit: Kreatives Schreiben: Fundamente für selbst-bewusstes Ver(w)orten (26H202.011) 
LOCATION:vhs, Hindenburgstr. 14, Raum 111, Hindenburgstraße 14, 67433 Neustadt/Weinstraße
END:VEVENT
END:VCALENDAR