BEGIN:VCALENDAR
VERSION:2.0
PRODID:https://www.kufer.de/kuferweb / DE
METHOD:PUBLISH
CALSCALE:GREGORIAN
X-WR-TIMEZONE:Europe/Berlin
BEGIN:VTIMEZONE
TZID:Europe/Berlin
X-LIC-LOCATION:Europe/Berlin
BEGIN:DAYLIGHT
TZOFFSETFROM:+0100
TZOFFSETTO:+0200
TZNAME:CEST
DTSTART:19700329T020000
RRULE:FREQ=YEARLY;INTERVAL=1;BYDAY=-1SU;BYMONTH=3
END:DAYLIGHT
BEGIN:STANDARD
TZOFFSETFROM:+0200
TZOFFSETTO:+0100
TZNAME:CET
DTSTART:19701025T030000
RRULE:FREQ=YEARLY;INTERVAL=1;BYDAY=-1SU;BYMONTH=10
END:STANDARD
END:VTIMEZONE
BEGIN:VEVENT
DTSTAMP:20260425T214714
DTSTART;TZID=Europe/Berlin:20260527T190000
DTEND;TZID=Europe/Berlin:20260527T211500
UID:26F303.024-20260527T190000@VHSNEUSTADT AN DER WEINSTRASSE
SUMMARY:Vortrag: Patientenverfügung und Vorsorgevollmacht - In Kooperation mit dem AWO-Betreuungsverein Mittelhaardt (26F303.024) 
LOCATION:vhs, Hindenburgstr. 14, Raum 103, Hindenburgstraße 14, 67433 Neustadt/Weinstraße
END:VEVENT
END:VCALENDAR