BEGIN:VCALENDAR
VERSION:2.0
PRODID:https://www.kufer.de/kuferweb / DE
METHOD:PUBLISH
CALSCALE:GREGORIAN
X-WR-TIMEZONE:Europe/Berlin
BEGIN:VTIMEZONE
TZID:Europe/Berlin
X-LIC-LOCATION:Europe/Berlin
BEGIN:DAYLIGHT
TZOFFSETFROM:+0100
TZOFFSETTO:+0200
TZNAME:CEST
DTSTART:19700329T020000
RRULE:FREQ=YEARLY;INTERVAL=1;BYDAY=-1SU;BYMONTH=3
END:DAYLIGHT
BEGIN:STANDARD
TZOFFSETFROM:+0200
TZOFFSETTO:+0100
TZNAME:CET
DTSTART:19701025T030000
RRULE:FREQ=YEARLY;INTERVAL=1;BYDAY=-1SU;BYMONTH=10
END:STANDARD
END:VTIMEZONE
BEGIN:VEVENT
DTSTAMP:20260426T032733
DTSTART;TZID=Europe/Berlin:20260601T180000
DTEND;TZID=Europe/Berlin:20260601T210000
UID:26F207.010-20260601T180000@VHSNEUSTADT AN DER WEINSTRASSE
SUMMARY:NEU: Aquarellkurs im Sommer – Licht, Leuchtkraft, Lebendigkeit (26F207.010) 
LOCATION:vhs, Hindenburgstr. 14, Raum 103, Hindenburgstraße 14, 67433 Neustadt/Weinstraße
END:VEVENT
BEGIN:VEVENT
DTSTAMP:20260426T032733
DTSTART;TZID=Europe/Berlin:20260608T180000
DTEND;TZID=Europe/Berlin:20260608T210000
UID:26F207.010-20260608T180000@VHSNEUSTADT AN DER WEINSTRASSE
SUMMARY:NEU: Aquarellkurs im Sommer – Licht, Leuchtkraft, Lebendigkeit (26F207.010) 
LOCATION:vhs, Hindenburgstr. 14, Raum 103, Hindenburgstraße 14, 67433 Neustadt/Weinstraße
END:VEVENT
BEGIN:VEVENT
DTSTAMP:20260426T032733
DTSTART;TZID=Europe/Berlin:20260615T180000
DTEND;TZID=Europe/Berlin:20260615T210000
UID:26F207.010-20260615T180000@VHSNEUSTADT AN DER WEINSTRASSE
SUMMARY:NEU: Aquarellkurs im Sommer – Licht, Leuchtkraft, Lebendigkeit (26F207.010) 
LOCATION:vhs, Hindenburgstr. 14, Raum 103, Hindenburgstraße 14, 67433 Neustadt/Weinstraße
END:VEVENT
BEGIN:VEVENT
DTSTAMP:20260426T032733
DTSTART;TZID=Europe/Berlin:20260622T180000
DTEND;TZID=Europe/Berlin:20260622T210000
UID:26F207.010-20260622T180000@VHSNEUSTADT AN DER WEINSTRASSE
SUMMARY:NEU: Aquarellkurs im Sommer – Licht, Leuchtkraft, Lebendigkeit (26F207.010) 
LOCATION:vhs, Hindenburgstr. 14, Raum 103, Hindenburgstraße 14, 67433 Neustadt/Weinstraße
END:VEVENT
END:VCALENDAR